BEGIN:VCALENDAR
VERSION:2.0
PRODID:-//eventon.com NONSGML v1.0//EN
CALSCALE:GREGORIAN
METHOD:PUBLISH
BEGIN:VEVENT
UID:69e8d0eb0c1c4
DTSTAMP:20260422T134515Z
DTSTART:20260424T150000Z
DTEND:20260424T200000Z
LOCATION:
SUMMARY:Abteilungsleitungssitzung
DESCRIPTION:Abteilungsleitungssitzung\nhttps://jujitsu-ryuko.de/events/abte
 ilungsleitungssitzung-5/
URL:https://jujitsu-ryuko.de/events/abteilungsleitungssitzung-5/
END:VEVENT
END:VCALENDAR