BEGIN:VCALENDAR
VERSION:2.0
PRODID:-//eventon.com NONSGML v1.0//EN
CALSCALE:GREGORIAN
METHOD:PUBLISH
BEGIN:VEVENT
UID:69e8e6fc2a7ec
DTSTAMP:20260422T151924Z
DTSTART:20260918T150000Z
DTEND:20260918T200000Z
LOCATION:
SUMMARY:Abteilungsleitungssitzung
DESCRIPTION:Abteilungsleitungssitzung\nhttps://jujitsu-ryuko.de/events/abte
 ilungsleitungssitzung-6/
URL:https://jujitsu-ryuko.de/events/abteilungsleitungssitzung-6/
END:VEVENT
END:VCALENDAR