BEGIN:VCALENDAR
VERSION:2.0
PRODID:-//eventon.com NONSGML v1.0//EN
CALSCALE:GREGORIAN
METHOD:PUBLISH
BEGIN:VEVENT
UID:69e8d0c76bcd1
DTSTAMP:20260422T134439Z
DTSTART:20260501T080000Z
DTEND:20260501T160000Z
LOCATION:
SUMMARY:Maiwanderung mit Grillen
DESCRIPTION:Maiwanderung mit Grillen\nhttps://jujitsu-ryuko.de/events/maiwa
 nderung-mit-grillen/
URL:https://jujitsu-ryuko.de/events/maiwanderung-mit-grillen/
END:VEVENT
END:VCALENDAR