BEGIN:VCALENDAR
VERSION:2.0
PRODID:-//eventon.com NONSGML v1.0//EN
CALSCALE:GREGORIAN
METHOD:PUBLISH
BEGIN:VEVENT
UID:69e8d1236f627
DTSTAMP:20260422T134611Z
DTSTART:20260515T120000Z
DTEND:20260517T120000Z
LOCATION:
SUMMARY:Zeltlager
DESCRIPTION:auf dem Zeltplatz am Pfarrer-Heinrich-Weber-Haus in Dittwar. Ei
 nladung Zeltlager zum Download\nhttps://jujitsu-ryuko.de/events/zeltlager-2
 /
URL:https://jujitsu-ryuko.de/events/zeltlager-2/
END:VEVENT
END:VCALENDAR