BEGIN:VCALENDAR
VERSION:2.0
PRODID:-//eventon.com NONSGML v1.0//EN
CALSCALE:GREGORIAN
METHOD:PUBLISH
BEGIN:VEVENT
UID:69e8e52f331e1
DTSTAMP:20260422T151143Z
DTSTART:20261023T180000Z
DTEND:20261023T200000Z
LOCATION:
SUMMARY:Trainerweiterbildung
DESCRIPTION:Trainerweiterbildung\nhttps://jujitsu-ryuko.de/events/trainerwe
 iterbildung-4/
URL:https://jujitsu-ryuko.de/events/trainerweiterbildung-4/
END:VEVENT
END:VCALENDAR