BEGIN:VCALENDAR
VERSION:2.0
PRODID:-//eventon.com NONSGML v1.0//EN
CALSCALE:GREGORIAN
METHOD:PUBLISH
BEGIN:VEVENT
UID:69e8e50689469
DTSTAMP:20260422T151102Z
DTSTART:20261211T180000Z
DTEND:20261211T220000Z
LOCATION:
SUMMARY:Trainerseminar
DESCRIPTION:Trainerseminar\nhttps://jujitsu-ryuko.de/events/trainerseminar-
 3/
URL:https://jujitsu-ryuko.de/events/trainerseminar-3/
END:VEVENT
END:VCALENDAR