BEGIN:VCALENDAR
VERSION:2.0
PRODID:-//eventon.com NONSGML v1.0//EN
CALSCALE:GREGORIAN
METHOD:PUBLISH
BEGIN:VEVENT
UID:69e8d0eb0cf99
DTSTAMP:20260422T134515Z
DTSTART:20251231T230000Z
DTEND:20261231T225900Z
LOCATION:
SUMMARY:Lehrgangs- und Maßnahmenübersicht des JJVW 2026
DESCRIPTION:link zur Übersicht https://jjvw.de/wp-content/uploads/2025/10/
 Terminplanung-JJVW-2026.pdf\nhttps://jujitsu-ryuko.de/events/lehrgangs-und-
 massnahmenuebersicht-des-jjvw-2026/
URL:https://jujitsu-ryuko.de/events/lehrgangs-und-massnahmenuebersicht-des-jjvw-2026/
END:VEVENT
END:VCALENDAR