BEGIN:VCALENDAR
VERSION:2.0
PRODID:-//eventon.com NONSGML v1.0//EN
CALSCALE:GREGORIAN
METHOD:PUBLISH
BEGIN:VEVENT
UID:69e8e758d5f2b
DTSTAMP:20260422T152056Z
DTSTART:20261121T120000Z
DTEND:20261121T163000Z
LOCATION:
SUMMARY:Herbstlehrgang in Bad Mergentheim
DESCRIPTION:mit Stefan Stöhr\,  Giuseppe D´Amico und Enno Häberlein\nhtt
 ps://jujitsu-ryuko.de/events/herbstlehrgang-in-bad-mergentheim/
URL:https://jujitsu-ryuko.de/events/herbstlehrgang-in-bad-mergentheim/
END:VEVENT
END:VCALENDAR