BEGIN:VCALENDAR
VERSION:2.0
PRODID:-//eventon.com NONSGML v1.0//EN
CALSCALE:GREGORIAN
METHOD:PUBLISH
BEGIN:VEVENT
UID:69e8e77c564b3
DTSTAMP:20260422T152132Z
DTSTART:20261005T180000Z
DTEND:20261005T200000Z
LOCATION:
SUMMARY:Kurs Gewaltprävention und Selbstverteidigung für Männer
DESCRIPTION:Auschreibung hier zum Download\nhttps://jujitsu-ryuko.de/events
 /kurs-gewaltpraevention-und-selbstverteidigung-fuer-maenner-2/
URL:https://jujitsu-ryuko.de/events/kurs-gewaltpraevention-und-selbstverteidigung-fuer-maenner-2/
END:VEVENT
END:VCALENDAR